BEGIN:VCALENDAR
VERSION:2.0
PRODID:-//Dallas Destination Imagination - ECPv6.15.1.1//NONSGML v1.0//EN
CALSCALE:GREGORIAN
METHOD:PUBLISH
X-ORIGINAL-URL:https://dallasdi.org
X-WR-CALDESC:Events for Dallas Destination Imagination
REFRESH-INTERVAL;VALUE=DURATION:PT1H
X-Robots-Tag:noindex
X-PUBLISHED-TTL:PT1H
BEGIN:VTIMEZONE
TZID:America/New_York
BEGIN:DAYLIGHT
TZOFFSETFROM:-0500
TZOFFSETTO:-0400
TZNAME:EDT
DTSTART:20260308T070000
END:DAYLIGHT
BEGIN:STANDARD
TZOFFSETFROM:-0400
TZOFFSETTO:-0500
TZNAME:EST
DTSTART:20261101T060000
END:STANDARD
END:VTIMEZONE
BEGIN:VEVENT
DTSTART;TZID=America/New_York:20260120T180000
DTEND;TZID=America/New_York:20260120T190000
DTSTAMP:20260424T170346
CREATED:20250930T005218Z
LAST-MODIFIED:20250930T005218Z
UID:948-1768932000-1768935600@dallasdi.org
SUMMARY:Dallas Region DI Board Meeting
DESCRIPTION:Walking Skyline High School Identifying spaces for tournament usage and Appraiser Training.  All Board Members and ACM are invited to walk and identify
URL:https://dallasdi.org/event/dallas-region-di-board-meeting-2/
LOCATION:Skyline High School\, 7777 Forney Road\, Dallas\, TX\, 75227\, United States
END:VEVENT
BEGIN:VEVENT
DTSTART;TZID=America/New_York:20260127T170000
DTEND;TZID=America/New_York:20260127T200000
DTSTAMP:20260424T170346
CREATED:20250731T000146Z
LAST-MODIFIED:20251026T151420Z
UID:737-1769533200-1769544000@dallasdi.org
SUMMARY:Appraiser Training
DESCRIPTION:This training is for all appraisers that team managers have recruited as an obligation in your registration.  The training will be held at Skyline High School the site of the tournament.  Lite dinner will be served beginning at 5:30 with training beginning at 6:00PM.
URL:https://dallasdi.org/event/appraiser-training-3/
LOCATION:Skyline High School\, 7777 Forney Road\, Dallas\, TX\, 75227\, United States
END:VEVENT
END:VCALENDAR