BEGIN:VCALENDAR
VERSION:2.0
PRODID:-//Dallas Destination Imagination - ECPv6.15.1.1//NONSGML v1.0//EN
CALSCALE:GREGORIAN
METHOD:PUBLISH
X-ORIGINAL-URL:https://dallasdi.org
X-WR-CALDESC:Events for Dallas Destination Imagination
REFRESH-INTERVAL;VALUE=DURATION:PT1H
X-Robots-Tag:noindex
X-PUBLISHED-TTL:PT1H
BEGIN:VTIMEZONE
TZID:America/New_York
BEGIN:DAYLIGHT
TZOFFSETFROM:-0500
TZOFFSETTO:-0400
TZNAME:EDT
DTSTART:20250309T070000
END:DAYLIGHT
BEGIN:STANDARD
TZOFFSETFROM:-0400
TZOFFSETTO:-0500
TZNAME:EST
DTSTART:20251102T060000
END:STANDARD
END:VTIMEZONE
BEGIN:VEVENT
DTSTART;TZID=America/New_York:20250916T173000
DTEND;TZID=America/New_York:20250916T190000
DTSTAMP:20260424T232958
CREATED:20250730T235746Z
LAST-MODIFIED:20250730T235746Z
UID:735-1758043800-1758049200@dallasdi.org
SUMMARY:2025 - 2026 First Team Manager Meeting
DESCRIPTION:Are you excited about this upcoming year in DI?  We can’t wait to see you at this most important Kick-Off for another exciting year of Destination Imagination.  Get ready for an amazing Kick-Off.  See you there.
URL:https://dallasdi.org/event/2025-2026-first-team-manager-meeting/
LOCATION:TX
END:VEVENT
END:VCALENDAR