BEGIN:VCALENDAR
VERSION:2.0
PRODID:-//Dallas Destination Imagination - ECPv6.15.1.1//NONSGML v1.0//EN
CALSCALE:GREGORIAN
METHOD:PUBLISH
X-WR-CALNAME:Dallas Destination Imagination
X-ORIGINAL-URL:https://dallasdi.org
X-WR-CALDESC:Events for Dallas Destination Imagination
REFRESH-INTERVAL;VALUE=DURATION:PT1H
X-Robots-Tag:noindex
X-PUBLISHED-TTL:PT1H
BEGIN:VTIMEZONE
TZID:America/New_York
BEGIN:DAYLIGHT
TZOFFSETFROM:-0500
TZOFFSETTO:-0400
TZNAME:EDT
DTSTART:20150308T070000
END:DAYLIGHT
BEGIN:STANDARD
TZOFFSETFROM:-0400
TZOFFSETTO:-0500
TZNAME:EST
DTSTART:20151101T060000
END:STANDARD
BEGIN:DAYLIGHT
TZOFFSETFROM:-0500
TZOFFSETTO:-0400
TZNAME:EDT
DTSTART:20160313T070000
END:DAYLIGHT
BEGIN:STANDARD
TZOFFSETFROM:-0400
TZOFFSETTO:-0500
TZNAME:EST
DTSTART:20161106T060000
END:STANDARD
BEGIN:DAYLIGHT
TZOFFSETFROM:-0500
TZOFFSETTO:-0400
TZNAME:EDT
DTSTART:20170312T070000
END:DAYLIGHT
BEGIN:STANDARD
TZOFFSETFROM:-0400
TZOFFSETTO:-0500
TZNAME:EST
DTSTART:20171105T060000
END:STANDARD
END:VTIMEZONE
BEGIN:VEVENT
DTSTART;TZID=America/New_York:20171010T173000
DTEND;TZID=America/New_York:20171010T183000
DTSTAMP:20260425T063603
CREATED:20160919T145603Z
LAST-MODIFIED:20171017T152743Z
UID:432-1507656600-1507660200@dallasdi.org
SUMMARY:New Team Manager Training
DESCRIPTION:
URL:https://dallasdi.org/event/new-team-manager-training/
LOCATION:Desoto ISD Admin Building\, 200 E. Beltline Road\, Desoto\, TX\, 75115\, United States
END:VEVENT
BEGIN:VEVENT
DTSTART;TZID=America/New_York:20161101T173000
DTEND;TZID=America/New_York:20161101T183000
DTSTAMP:20260425T063603
CREATED:20151001T181721Z
LAST-MODIFIED:20160919T153130Z
UID:373-1478021400-1478025000@dallasdi.org
SUMMARY:Dallas Regional DI Board Meeting
DESCRIPTION:
URL:https://dallasdi.org/event/dallas-regional-di-board-meeting-3/
LOCATION:TX
END:VEVENT
BEGIN:VEVENT
DTSTART;TZID=America/New_York:20160913T173000
DTEND;TZID=America/New_York:20160913T183000
DTSTAMP:20260425T063603
CREATED:20151001T181636Z
LAST-MODIFIED:20160919T151933Z
UID:372-1473787800-1473791400@dallasdi.org
SUMMARY:Dallas Regional DI Board Meeting
DESCRIPTION:
URL:https://dallasdi.org/event/dallas-regional-di-board-meeting-2/
LOCATION:Unnamed Venue\, Dallas
END:VEVENT
BEGIN:VEVENT
DTSTART;TZID=America/New_York:20160420T173000
DTEND;TZID=America/New_York:20160420T183000
DTSTAMP:20260425T063603
CREATED:20151001T182027Z
LAST-MODIFIED:20151001T182027Z
UID:377-1461173400-1461177000@dallasdi.org
SUMMARY:Dallas Regional DI Board Meeting
DESCRIPTION:
URL:https://dallasdi.org/event/dallas-regional-di-board-meeting-7/
LOCATION:HW Lang Middle School\, 1678 Chenault St.\, Dallas\, TX\, 75228\, United States
END:VEVENT
BEGIN:VEVENT
DTSTART;TZID=America/New_York:20151007T180000
DTEND;TZID=America/New_York:20151007T190000
DTSTAMP:20260425T063603
CREATED:20141028T181422Z
LAST-MODIFIED:20151001T175710Z
UID:280-1444240800-1444244400@dallasdi.org
SUMMARY:Dallas DI Information Night Meeting
DESCRIPTION:Join us at Bryan Adams High School to learn more about forming a team and competing this year! \n 
URL:https://dallasdi.org/event/dallas-di-information-night-meeting/
LOCATION:Bryan Adams High School\, 2101 Millmar Drive\, Dallas\, 75228\, United States
END:VEVENT
END:VCALENDAR