BEGIN:VCALENDAR
VERSION:2.0
PRODID:-//Dallas Destination Imagination - ECPv6.15.1.1//NONSGML v1.0//EN
CALSCALE:GREGORIAN
METHOD:PUBLISH
X-WR-CALNAME:Dallas Destination Imagination
X-ORIGINAL-URL:https://dallasdi.org
X-WR-CALDESC:Events for Dallas Destination Imagination
REFRESH-INTERVAL;VALUE=DURATION:PT1H
X-Robots-Tag:noindex
X-PUBLISHED-TTL:PT1H
BEGIN:VTIMEZONE
TZID:America/New_York
BEGIN:DAYLIGHT
TZOFFSETFROM:-0500
TZOFFSETTO:-0400
TZNAME:EDT
DTSTART:20150308T070000
END:DAYLIGHT
BEGIN:STANDARD
TZOFFSETFROM:-0400
TZOFFSETTO:-0500
TZNAME:EST
DTSTART:20151101T060000
END:STANDARD
BEGIN:DAYLIGHT
TZOFFSETFROM:-0500
TZOFFSETTO:-0400
TZNAME:EDT
DTSTART:20160313T070000
END:DAYLIGHT
BEGIN:STANDARD
TZOFFSETFROM:-0400
TZOFFSETTO:-0500
TZNAME:EST
DTSTART:20161106T060000
END:STANDARD
BEGIN:DAYLIGHT
TZOFFSETFROM:-0500
TZOFFSETTO:-0400
TZNAME:EDT
DTSTART:20170312T070000
END:DAYLIGHT
BEGIN:STANDARD
TZOFFSETFROM:-0400
TZOFFSETTO:-0500
TZNAME:EST
DTSTART:20171105T060000
END:STANDARD
BEGIN:DAYLIGHT
TZOFFSETFROM:-0500
TZOFFSETTO:-0400
TZNAME:EDT
DTSTART:20180311T070000
END:DAYLIGHT
BEGIN:STANDARD
TZOFFSETFROM:-0400
TZOFFSETTO:-0500
TZNAME:EST
DTSTART:20181104T060000
END:STANDARD
BEGIN:DAYLIGHT
TZOFFSETFROM:-0500
TZOFFSETTO:-0400
TZNAME:EDT
DTSTART:20190310T070000
END:DAYLIGHT
BEGIN:STANDARD
TZOFFSETFROM:-0400
TZOFFSETTO:-0500
TZNAME:EST
DTSTART:20191103T060000
END:STANDARD
BEGIN:DAYLIGHT
TZOFFSETFROM:-0500
TZOFFSETTO:-0400
TZNAME:EDT
DTSTART:20200308T070000
END:DAYLIGHT
BEGIN:STANDARD
TZOFFSETFROM:-0400
TZOFFSETTO:-0500
TZNAME:EST
DTSTART:20201101T060000
END:STANDARD
BEGIN:DAYLIGHT
TZOFFSETFROM:-0500
TZOFFSETTO:-0400
TZNAME:EDT
DTSTART:20210314T070000
END:DAYLIGHT
BEGIN:STANDARD
TZOFFSETFROM:-0400
TZOFFSETTO:-0500
TZNAME:EST
DTSTART:20211107T060000
END:STANDARD
BEGIN:DAYLIGHT
TZOFFSETFROM:-0500
TZOFFSETTO:-0400
TZNAME:EDT
DTSTART:20220313T070000
END:DAYLIGHT
BEGIN:STANDARD
TZOFFSETFROM:-0400
TZOFFSETTO:-0500
TZNAME:EST
DTSTART:20221106T060000
END:STANDARD
BEGIN:DAYLIGHT
TZOFFSETFROM:-0500
TZOFFSETTO:-0400
TZNAME:EDT
DTSTART:20230312T070000
END:DAYLIGHT
BEGIN:STANDARD
TZOFFSETFROM:-0400
TZOFFSETTO:-0500
TZNAME:EST
DTSTART:20231105T060000
END:STANDARD
BEGIN:DAYLIGHT
TZOFFSETFROM:-0500
TZOFFSETTO:-0400
TZNAME:EDT
DTSTART:20240310T070000
END:DAYLIGHT
BEGIN:STANDARD
TZOFFSETFROM:-0400
TZOFFSETTO:-0500
TZNAME:EST
DTSTART:20241103T060000
END:STANDARD
END:VTIMEZONE
BEGIN:VEVENT
DTSTART;TZID=America/New_York:20240930T080000
DTEND;TZID=America/New_York:20240930T080000
DTSTAMP:20260425T095733
CREATED:20240718T010041Z
LAST-MODIFIED:20240718T010041Z
UID:676-1727683200-1727683200@dallasdi.org
SUMMARY:Dallas DI Regional Tournament Registration Opens
DESCRIPTION:You will need you team number and the information for your team to register.  Please do not mark complete until your team has finalized their challenge and be sure to indicate the level of competition.
URL:https://dallasdi.org/event/dallas-di-regional-tournament-registration-opens/
LOCATION:TX
END:VEVENT
BEGIN:VEVENT
DTSTART;TZID=America/New_York:20240917T170000
DTEND;TZID=America/New_York:20240917T193000
DTSTAMP:20260425T095733
CREATED:20240718T005637Z
LAST-MODIFIED:20240718T005637Z
UID:674-1726592400-1726601400@dallasdi.org
SUMMARY:First Team Manager Meeting
DESCRIPTION:Please plan on joining us for the first team manager meeting being  held at Barack Obama Male Leadership Academy.  The address is: 3030 Stag Rd\, Dallas\, TX 75241
URL:https://dallasdi.org/event/first-team-manager-meeting/
LOCATION:Obama Male Leadership Academy
END:VEVENT
BEGIN:VEVENT
DTSTART;VALUE=DATE:20190202
DTEND;VALUE=DATE:20190203
DTSTAMP:20260425T095733
CREATED:20181016T204942Z
LAST-MODIFIED:20190129T015653Z
UID:565-1549065600-1549151999@dallasdi.org
SUMMARY:Regional Tournament
DESCRIPTION:Tournament Schedule at the link below: \nDallas Tournament Schedule Combined
URL:https://dallasdi.org/event/regional-tournament/
LOCATION:Conrad High School\, 7502 Fair Oaks Ave\, Dallas\, 02/02/18\, 75231\, United States
END:VEVENT
BEGIN:VEVENT
DTSTART;TZID=America/New_York:20190124T173000
DTEND;TZID=America/New_York:20190124T210000
DTSTAMP:20260425T095733
CREATED:20181016T204855Z
LAST-MODIFIED:20181016T204855Z
UID:563-1548351000-1548363600@dallasdi.org
SUMMARY:Appraiser Training
DESCRIPTION:
URL:https://dallasdi.org/event/appraiser-training-2/
LOCATION:Edison Middle Learning Center\, 2940 Singleton Blvd\, Dallas\, TX\, 75212\, United States
END:VEVENT
BEGIN:VEVENT
DTSTART;TZID=America/New_York:20181107T173000
DTEND;TZID=America/New_York:20181107T183000
DTSTAMP:20260425T095733
CREATED:20181016T204810Z
LAST-MODIFIED:20181016T204810Z
UID:561-1541611800-1541615400@dallasdi.org
SUMMARY:Team Manager Training
DESCRIPTION:
URL:https://dallasdi.org/event/team-manager-training-2/
LOCATION:Edison Middle Learning Center\, 2940 Singleton Blvd\, Dallas\, TX\, 75212\, United States
END:VEVENT
BEGIN:VEVENT
DTSTART;TZID=America/New_York:20181016T173000
DTEND;TZID=America/New_York:20181016T183000
DTSTAMP:20260425T095733
CREATED:20181016T204735Z
LAST-MODIFIED:20181016T204735Z
UID:557-1539711000-1539714600@dallasdi.org
SUMMARY:Team Manager Training
DESCRIPTION:
URL:https://dallasdi.org/event/team-manager-training/
LOCATION:Edison Middle Learning Center\, 2940 Singleton Blvd\, Dallas\, TX\, 75212\, United States
END:VEVENT
BEGIN:VEVENT
DTSTART;VALUE=DATE:20180521
DTEND;VALUE=DATE:20180527
DTSTAMP:20260425T095733
CREATED:20151001T182426Z
LAST-MODIFIED:20171017T154728Z
UID:379-1526860800-1527379199@dallasdi.org
SUMMARY:Global Finals
DESCRIPTION:
URL:https://dallasdi.org/event/global-finals/
LOCATION:University of Tennessee\, Knoxville\, TN\, United States
END:VEVENT
BEGIN:VEVENT
DTSTART;VALUE=DATE:20180217
DTEND;VALUE=DATE:20180218
DTSTAMP:20260425T095733
CREATED:20141105T195536Z
LAST-MODIFIED:20171017T151206Z
UID:287-1518825600-1518911999@dallasdi.org
SUMMARY:Dallas Regional Tournament
DESCRIPTION:Can’t wait to see you at the Dallas Regional Tournament hosted February 17\, 2018 by Skyline High School!
URL:https://dallasdi.org/event/dallas-regional-tournament/
LOCATION:Skyline High School\, 7777 Forney Road\, Dallas\, TX\, 75227\, United States
END:VEVENT
BEGIN:VEVENT
DTSTART;VALUE=DATE:20180209
DTEND;VALUE=DATE:20180210
DTSTAMP:20260425T095733
CREATED:20150115T033938Z
LAST-MODIFIED:20171017T155014Z
UID:315-1518134400-1518220799@dallasdi.org
SUMMARY:2018 Scholarship Application Deadline
DESCRIPTION:2018 SCHOLARSHIP APPLICATION AVAILABLE SOON! Click on Resources tab to download the application.
URL:https://dallasdi.org/event/scholarship-application-deadline/
LOCATION:TX
END:VEVENT
BEGIN:VEVENT
DTSTART;TZID=America/New_York:20180125T170000
DTEND;TZID=America/New_York:20180125T203000
DTSTAMP:20260425T095733
CREATED:20150112T143737Z
LAST-MODIFIED:20171017T155145Z
UID:296-1516899600-1516912200@dallasdi.org
SUMMARY:Appraiser Training
DESCRIPTION:All Tournament Appraisers must attend training. Please register in advance on the Texas DI website. Go to the Tournament Registration page on this website for instructions — COMING SOON. See you there!
URL:https://dallasdi.org/event/appraiser-training/
LOCATION:Skyline High School\, 7777 Forney Road\, Dallas\, TX\, 75227\, United States
END:VEVENT
BEGIN:VEVENT
DTSTART;VALUE=DATE:20180119
DTEND;VALUE=DATE:20180120
DTSTAMP:20260425T095733
CREATED:20151001T181444Z
LAST-MODIFIED:20171017T155817Z
UID:371-1516320000-1516406399@dallasdi.org
SUMMARY:T-Shirt & Pin Ordering Deadline
DESCRIPTION:
URL:https://dallasdi.org/event/t-shirt-pin-ordering-deadline/
LOCATION:TX
END:VEVENT
BEGIN:VEVENT
DTSTART;TZID=America/New_York:20180116T173000
DTEND;TZID=America/New_York:20180116T183000
DTSTAMP:20260425T095733
CREATED:20151001T181859Z
LAST-MODIFIED:20171010T032542Z
UID:375-1516123800-1516127400@dallasdi.org
SUMMARY:Dallas Regional DI Board Meeting
DESCRIPTION:
URL:https://dallasdi.org/event/dallas-regional-di-board-meeting-5/
LOCATION:La Madeleine\, Mockingbird@Central Expy\, Dallas\, TX\, United States
END:VEVENT
BEGIN:VEVENT
DTSTART;TZID=America/New_York:20180106T100000
DTEND;TZID=America/New_York:20180106T150000
DTSTAMP:20260425T095733
CREATED:20151001T181808Z
LAST-MODIFIED:20171017T155307Z
UID:374-1515232800-1515250800@dallasdi.org
SUMMARY:Regional Challenge Master Training
DESCRIPTION:RCMs — Please mark your calendars!
URL:https://dallasdi.org/event/dallas-regional-di-board-meeting-4/
LOCATION:Richardson Training Center\, 701 W. Beltline Road\, Richardson\, TX\, United States
END:VEVENT
BEGIN:VEVENT
DTSTART;TZID=America/New_York:20171202T090000
DTEND;TZID=America/New_York:20171202T120000
DTSTAMP:20260425T095733
CREATED:20160919T153649Z
LAST-MODIFIED:20171017T155652Z
UID:439-1512205200-1512216000@dallasdi.org
SUMMARY:Team Workshop - Team Challenge Skills
DESCRIPTION:
URL:https://dallasdi.org/event/team-workshop-team-challenge-skills/
LOCATION:Location TBD
END:VEVENT
BEGIN:VEVENT
DTSTART;VALUE=DATE:20171130
DTEND;VALUE=DATE:20171201
DTSTAMP:20260425T095733
CREATED:20141105T194931Z
LAST-MODIFIED:20171017T152336Z
UID:285-1512000000-1512086399@dallasdi.org
SUMMARY:Dallas Tournament Registration Closes!
DESCRIPTION:From now until November 10\, 2017\, registration is $100 per team. LATE registration from November 11-30 is $150 per team. Don’t be left out — registration closes at midnight November 30\, 2017!
URL:https://dallasdi.org/event/dallas-tournament-registration-closes/
LOCATION:TX
END:VEVENT
BEGIN:VEVENT
DTSTART;TZID=America/New_York:20171107T173000
DTEND;TZID=America/New_York:20171107T183000
DTSTAMP:20260425T095733
CREATED:20160919T150531Z
LAST-MODIFIED:20171017T155503Z
UID:435-1510075800-1510079400@dallasdi.org
SUMMARY:Team Manager Training w/Tournament Focus
DESCRIPTION:Required for all DISD TMs; Recommended for ALL Dallas Region TMs.
URL:https://dallasdi.org/event/team-manager-training-wtournament-focus/
LOCATION:HW Lang Middle School\, 1678 Chenault St.\, Dallas\, TX\, 75228\, United States
END:VEVENT
BEGIN:VEVENT
DTSTART;TZID=America/New_York:20171024T173000
DTEND;TZID=America/New_York:20171024T183000
DTSTAMP:20260425T095733
CREATED:20151001T181326Z
LAST-MODIFIED:20171010T032432Z
UID:370-1508866200-1508869800@dallasdi.org
SUMMARY:Dallas Regional DI Board Meeting
DESCRIPTION:
URL:https://dallasdi.org/event/dallas-regional-di-board-meeting/
LOCATION:La Madeleine\, Mockingbird@Central Expy\, Dallas\, TX\, United States
END:VEVENT
BEGIN:VEVENT
DTSTART;TZID=America/New_York:20171017T173000
DTEND;TZID=America/New_York:20171017T183000
DTSTAMP:20260425T095733
CREATED:20160919T150417Z
LAST-MODIFIED:20171017T152138Z
UID:434-1508261400-1508265000@dallasdi.org
SUMMARY:Team Manager Training w/Registration Focus
DESCRIPTION:Required for all DISD TMs; Focus will be on registering your teams. Suggested for all TMs in the Region.
URL:https://dallasdi.org/event/team-manager-training-wregistration-focus/
LOCATION:HW Lang Middle School\, 1678 Chenault St.\, Dallas\, TX\, 75228\, United States
END:VEVENT
BEGIN:VEVENT
DTSTART;TZID=America/New_York:20171014T090000
DTEND;TZID=America/New_York:20171014T120000
DTSTAMP:20260425T095733
CREATED:20160919T151647Z
LAST-MODIFIED:20171010T145003Z
UID:436-1507971600-1507982400@dallasdi.org
SUMMARY:Team Workshop - Instant Challenge Skills
DESCRIPTION:2018 DI IC workshop flyer \n 
URL:https://dallasdi.org/event/team-workshop-instant-challenge-skills/
LOCATION:Alcuin School Wyly Performance Space\, 6144 Churchill Way\, Dallas\, TX\, 75230\, United States
END:VEVENT
BEGIN:VEVENT
DTSTART;TZID=America/New_York:20171010T173000
DTEND;TZID=America/New_York:20171010T183000
DTSTAMP:20260425T095733
CREATED:20160919T145603Z
LAST-MODIFIED:20171017T152743Z
UID:432-1507656600-1507660200@dallasdi.org
SUMMARY:New Team Manager Training
DESCRIPTION:
URL:https://dallasdi.org/event/new-team-manager-training/
LOCATION:Desoto ISD Admin Building\, 200 E. Beltline Road\, Desoto\, TX\, 75115\, United States
END:VEVENT
BEGIN:VEVENT
DTSTART;TZID=America/New_York:20161101T173000
DTEND;TZID=America/New_York:20161101T183000
DTSTAMP:20260425T095733
CREATED:20151001T181721Z
LAST-MODIFIED:20160919T153130Z
UID:373-1478021400-1478025000@dallasdi.org
SUMMARY:Dallas Regional DI Board Meeting
DESCRIPTION:
URL:https://dallasdi.org/event/dallas-regional-di-board-meeting-3/
LOCATION:TX
END:VEVENT
BEGIN:VEVENT
DTSTART;TZID=America/New_York:20160913T173000
DTEND;TZID=America/New_York:20160913T183000
DTSTAMP:20260425T095733
CREATED:20151001T181636Z
LAST-MODIFIED:20160919T151933Z
UID:372-1473787800-1473791400@dallasdi.org
SUMMARY:Dallas Regional DI Board Meeting
DESCRIPTION:
URL:https://dallasdi.org/event/dallas-regional-di-board-meeting-2/
LOCATION:Unnamed Venue\, Dallas
END:VEVENT
BEGIN:VEVENT
DTSTART;TZID=America/New_York:20160420T173000
DTEND;TZID=America/New_York:20160420T183000
DTSTAMP:20260425T095733
CREATED:20151001T182027Z
LAST-MODIFIED:20151001T182027Z
UID:377-1461173400-1461177000@dallasdi.org
SUMMARY:Dallas Regional DI Board Meeting
DESCRIPTION:
URL:https://dallasdi.org/event/dallas-regional-di-board-meeting-7/
LOCATION:HW Lang Middle School\, 1678 Chenault St.\, Dallas\, TX\, 75228\, United States
END:VEVENT
BEGIN:VEVENT
DTSTART;TZID=America/New_York:20151007T180000
DTEND;TZID=America/New_York:20151007T190000
DTSTAMP:20260425T095733
CREATED:20141028T181422Z
LAST-MODIFIED:20151001T175710Z
UID:280-1444240800-1444244400@dallasdi.org
SUMMARY:Dallas DI Information Night Meeting
DESCRIPTION:Join us at Bryan Adams High School to learn more about forming a team and competing this year! \n 
URL:https://dallasdi.org/event/dallas-di-information-night-meeting/
LOCATION:Bryan Adams High School\, 2101 Millmar Drive\, Dallas\, 75228\, United States
END:VEVENT
END:VCALENDAR