BEGIN:VCALENDAR
VERSION:2.0
PRODID:-//Dallas Destination Imagination - ECPv6.15.1.1//NONSGML v1.0//EN
CALSCALE:GREGORIAN
METHOD:PUBLISH
X-WR-CALNAME:Dallas Destination Imagination
X-ORIGINAL-URL:https://dallasdi.org
X-WR-CALDESC:Events for Dallas Destination Imagination
REFRESH-INTERVAL;VALUE=DURATION:PT1H
X-Robots-Tag:noindex
X-PUBLISHED-TTL:PT1H
BEGIN:VTIMEZONE
TZID:America/New_York
BEGIN:DAYLIGHT
TZOFFSETFROM:-0500
TZOFFSETTO:-0400
TZNAME:EDT
DTSTART:20260308T070000
END:DAYLIGHT
BEGIN:STANDARD
TZOFFSETFROM:-0400
TZOFFSETTO:-0500
TZNAME:EST
DTSTART:20261101T060000
END:STANDARD
END:VTIMEZONE
BEGIN:VEVENT
DTSTART;VALUE=DATE:20260207
DTEND;VALUE=DATE:20260209
DTSTAMP:20260424T195917
CREATED:20250731T000738Z
LAST-MODIFIED:20250731T000738Z
UID:741-1770465600-1770551999@dallasdi.org
SUMMARY:Dallas DI Regional Tournament
DESCRIPTION:The day you and your team have worked for since last fall – the appraisers cannot wait to see your solutions to the challenge your team selected.  Please be sure to double check the tournament schedule.  Congratulations to all of these teams.
URL:https://dallasdi.org/event/dallas-di-regional-tournament-2/
LOCATION:Skyline High School\, 7777 Forney Road\, Dallas\, TX\, 75227\, United States
END:VEVENT
BEGIN:VEVENT
DTSTART;TZID=America/New_York:20260311T180000
DTEND;TZID=America/New_York:20260311T190000
DTSTAMP:20260424T195917
CREATED:20250930T005524Z
LAST-MODIFIED:20250930T005524Z
UID:951-1773252000-1773255600@dallasdi.org
SUMMARY:Dallas Regional DI Board Meeting
DESCRIPTION:Review Dallas Regional Tournament\, teams advancing to state\, and plan to cover state requirements for the Region.
URL:https://dallasdi.org/event/dallas-regional-di-board-meeting-6/
LOCATION:Chubbys\, Northwest Hwy\, Dallas\, TX\, 75101\, United States
END:VEVENT
BEGIN:VEVENT
DTSTART;TZID=America/New_York:20260504T180000
DTEND;TZID=America/New_York:20260504T193000
DTSTAMP:20260424T195917
CREATED:20250930T005832Z
LAST-MODIFIED:20250930T005832Z
UID:953-1777917600-1777923000@dallasdi.org
SUMMARY:Dallas Region DI End of Year Celebration
DESCRIPTION:Join us for our end of year celebration for all board members and ACM along with a guest.  Just be sure to RSVP.
URL:https://dallasdi.org/event/dallas-region-di-end-of-year-celebration/
LOCATION:Saltgrass Steakhouse\, Mesquite\, TX\, 75150\, United States
END:VEVENT
END:VCALENDAR