BEGIN:VCALENDAR
VERSION:2.0
PRODID:-//Dallas Destination Imagination - ECPv6.15.1.1//NONSGML v1.0//EN
CALSCALE:GREGORIAN
METHOD:PUBLISH
X-WR-CALNAME:Dallas Destination Imagination
X-ORIGINAL-URL:https://dallasdi.org
X-WR-CALDESC:Events for Dallas Destination Imagination
REFRESH-INTERVAL;VALUE=DURATION:PT1H
X-Robots-Tag:noindex
X-PUBLISHED-TTL:PT1H
BEGIN:VTIMEZONE
TZID:UTC
BEGIN:STANDARD
TZOFFSETFROM:+0000
TZOFFSETTO:+0000
TZNAME:UTC
DTSTART:20250101T000000
END:STANDARD
END:VTIMEZONE
BEGIN:VEVENT
DTSTART;TZID=UTC:20251016T173000
DTEND;TZID=UTC:20251016T193000
DTSTAMP:20260424T234657
CREATED:20250730T235136Z
LAST-MODIFIED:20250730T235309Z
UID:731-1760635800-1760643000@dallasdi.org
SUMMARY:2025 - 2026 Second Team Manage Meeting
DESCRIPTION:Are you struggling with the RYT system or registering your team – this meeting will be for your team to receive support.
URL:https://dallasdi.org/event/2025-2026-first-team-manage-meeting/
LOCATION:Obama Male Leadership Academy
END:VEVENT
END:VCALENDAR